BEGIN:VCALENDAR
VERSION:2.0
PRODID:-//wp-events-plugin.com//7.2.3//EN
TZID:Europe/Madrid
X-WR-TIMEZONE:Europe/Madrid
BEGIN:VEVENT
UID:185@elshostaletsdepierola.cat
DTSTART:20161001T160000Z
DTEND:20161001T180000Z
DTSTAMP:20160927T095950Z
URL:https://elshostaletsdepierola.cat/events/1-doctubre-esplai-pifies-torn
 a-lactivitat/
SUMMARY:1 d'octubre. Esplai Pífies torna a l'activitat
DESCRIPTION:L'Esplai Pífies torna a obrir les portes d'un nou curs.\n\nPer
  a infants de P3 fins a 4rt.\n\nInscripcions el mateix dia 1 d'octubre a l
 a seu de l'Esplai.
ATTACH;FMTTYPE=image/jpeg:https://elshostaletsdepierola.cat/wp-content/upl
 oads/2016/09/CARTELL-ESPLAI-BAIX.jpg
CATEGORIES:Cultura,Esdeveniments,newsletter
LOCATION:Espai Entitats\, Mestre Lladós\, 3\, Els Hostalets de Pierola\, B
 arcelona\, 08781\, CAtalunya\, Espanya
GEO:41.5333642;1.7711879999999383
X-APPLE-STRUCTURED-LOCATION;VALUE=URI;X-ADDRESS=Mestre Lladós\, 3\, Els Ho
 stalets de Pierola\, Barcelona\, 08781\, CAtalunya\, Espanya;X-APPLE-RADIU
 S=100;X-TITLE=Espai Entitats:geo:41.5333642,1.7711879999999383
END:VEVENT
END:VCALENDAR