BEGIN:VCALENDAR
VERSION:2.0
PRODID:-//wp-events-plugin.com//7.2.3//EN
TZID:Europe/Madrid
X-WR-TIMEZONE:Europe/Madrid
BEGIN:VEVENT
UID:679@elshostaletsdepierola.cat
DTSTART:20190101T123000Z
DTEND:20190101T133000Z
DTSTAMP:20181227T111247Z
URL:https://elshostaletsdepierola.cat/events/1-gener-missa-any-nou/
SUMMARY:1 gener. Missa d'any nou
DESCRIPTION:
CATEGORIES:Cultura,Esdeveniments
LOCATION:Església parroquial de Sant Pere\, Carrer de l'Esglèsia\, 18\, E
 ls Hostalets de Pierola\, Spain\, 08781\, Espanya
GEO:41.5322568;1.797712400000023
X-APPLE-STRUCTURED-LOCATION;VALUE=URI;X-ADDRESS=Carrer de l'Esglèsia\, 18\
 , Els Hostalets de Pierola\, Spain\, 08781\, Espanya;X-APPLE-RADIUS=100;X-
 TITLE=Església parroquial de Sant Pere:geo:41.5322568,1.797712400000023
END:VEVENT
END:VCALENDAR