BEGIN:VCALENDAR
VERSION:2.0
PRODID:-//wp-events-plugin.com//7.2.3//EN
TZID:Europe/Madrid
X-WR-TIMEZONE:Europe/Madrid
BEGIN:VEVENT
UID:326@elshostaletsdepierola.cat
DTSTART:20170701T220000Z
DTEND:20170701T233000Z
DTSTAMP:20170626T103745Z
URL:https://elshostaletsdepierola.cat/events/1-juliol-ii-festival-patinatg
 e-artistic/
SUMMARY:1 juliol. II Festival de patinatge artístic: 'El bosc encantat'.
DESCRIPTION:
ATTACH;FMTTYPE=image/jpeg:https://elshostaletsdepierola.cat/wp-content/upl
 oads/2017/06/II-Festival-de-Patinatge-Artístic-001-baix.jpg
CATEGORIES:Esdeveniments,newsletter
LOCATION:Pista poliesportiva\, Pista poliesportiva \, Els Hostalets de Pier
 ola\, Espanya
GEO:41.5348287;1.7685406000000512
X-APPLE-STRUCTURED-LOCATION;VALUE=URI;X-ADDRESS=Pista poliesportiva \, Els 
 Hostalets de Pierola\, Espanya;X-APPLE-RADIUS=100;X-TITLE=Pista poliesport
 iva:geo:41.5348287,1.7685406000000512
END:VEVENT
END:VCALENDAR