BEGIN:VCALENDAR
VERSION:2.0
PRODID:-//wp-events-plugin.com//7.2.3//EN
TZID:Europe/Madrid
X-WR-TIMEZONE:Europe/Madrid
BEGIN:VEVENT
UID:325@elshostaletsdepierola.cat
DTSTART:20170701T110000Z
DTEND:20170701T120000Z
DTSTAMP:20170626T073316Z
URL:https://elshostaletsdepierola.cat/events/1-juliol-inauguracio-expo-nav
 arro-passat-present/
SUMMARY:1 juliol. inauguració exposició de Josep Lluís Navarro: "Passat 
 i present"
DESCRIPTION:
ATTACH;FMTTYPE=image/jpeg:https://elshostaletsdepierola.cat/wp-content/upl
 oads/2017/06/EXPO-NAVARRO.jpeg
CATEGORIES:Cultura,Esdeveniments,newsletter
LOCATION:Espai de Cultura Cal Batista\, Carrer Major\, 1\, Els Hostalets de
  Pierola\, Espanya
GEO:41.385059;1.9314653000000135
X-APPLE-STRUCTURED-LOCATION;VALUE=URI;X-ADDRESS=Carrer Major\, 1\, Els Host
 alets de Pierola\, Espanya;X-APPLE-RADIUS=100;X-TITLE=Espai de Cultura Cal
  Batista:geo:41.385059,1.9314653000000135
END:VEVENT
END:VCALENDAR