BEGIN:VCALENDAR
VERSION:2.0
PRODID:-//wp-events-plugin.com//7.2.3//EN
TZID:Europe/Madrid
X-WR-TIMEZONE:Europe/Madrid
BEGIN:VEVENT
UID:138@elshostaletsdepierola.cat
DTSTART:20160701T201500Z
DTEND:20160701T211500Z
DTSTAMP:20160630T115751Z
URL:https://elshostaletsdepierola.cat/events/1-juliol-xerrada-sobre-preven
 cio-dincendis/
SUMMARY:1 de juliol. Xerrada sobre prevenció d'incendis
DESCRIPTION:Davant la necessitat de prevenir els incendis i conèixer com a
 ctuar davant d'aquest tipus de circumstàncies els Bombers de Piera organi
 tzen una xerrada el proper divendres\, 1 de juliol a les 20.15h a l'Audito
 ri de Cal Figueres dels Hostalets de Pierola.
CATEGORIES:Esdeveniments,newsletter
LOCATION:Auditori de Cal Figueres\, Plaça Cal Figueres 1\, Hostalets de Pi
 erola\, Espanya
GEO:41.5348287;1.7685406000000512
X-APPLE-STRUCTURED-LOCATION;VALUE=URI;X-ADDRESS=Plaça Cal Figueres 1\, Hos
 talets de Pierola\, Espanya;X-APPLE-RADIUS=100;X-TITLE=Auditori de Cal Fig
 ueres:geo:41.5348287,1.7685406000000512
END:VEVENT
END:VCALENDAR