BEGIN:VCALENDAR
VERSION:2.0
PRODID:-//wp-events-plugin.com//7.2.3//EN
TZID:Europe/Madrid
X-WR-TIMEZONE:Europe/Madrid
BEGIN:VEVENT
UID:905@elshostaletsdepierola.cat
DTSTART:20191101T090000Z
DTEND:20191101T140000Z
DTSTAMP:20191031T122242Z
URL:https://elshostaletsdepierola.cat/events/1-novembre-24e-mototerra/
SUMMARY:1 novembre. 24è Mototerra
DESCRIPTION:
ATTACH;FMTTYPE=image/jpeg:https://elshostaletsdepierola.cat/wp-content/upl
 oads/2019/10/screenshot_20191017-212856_powerpoint.jpg
CATEGORIES:Esdeveniments,Esport,newsletter
LOCATION:Camí de Can Peret\, Camí de Can Peret\, Hostalets de Pierola\, B
 arcelona\, 08781\, Espanya
GEO:41.533847;1.770257000000015
X-APPLE-STRUCTURED-LOCATION;VALUE=URI;X-ADDRESS=Camí de Can Peret\, Hostal
 ets de Pierola\, Barcelona\, 08781\, Espanya;X-APPLE-RADIUS=100;X-TITLE=Ca
 mí de Can Peret:geo:41.533847,1.770257000000015
END:VEVENT
END:VCALENDAR