BEGIN:VCALENDAR
VERSION:2.0
PRODID:-//wp-events-plugin.com//7.2.3//EN
TZID:Europe/Madrid
X-WR-TIMEZONE:Europe/Madrid
BEGIN:VEVENT
UID:910@elshostaletsdepierola.cat
DTSTART:20191101T180000Z
DTEND:20191101T200000Z
DTSTAMP:20191031T122317Z
URL:https://elshostaletsdepierola.cat/events/1-novembre-festa-castanyada-c
 an-fosalba/
SUMMARY:1 novembre. Festa Castanyada Can Fosalba
DESCRIPTION:
ATTACH;FMTTYPE=image/jpeg:https://elshostaletsdepierola.cat/wp-content/upl
 oads/2019/10/captura-de-pantalla-2019-10-23-a-les-22-34-41.png
CATEGORIES:Esdeveniments,Festes,newsletter
LOCATION:Casal Montserrat Can Fosalba\, Can Fosalba\, Els Hostalets de Pier
 ola\, Espanya
GEO:41.5444542;1.8107836000000361
X-APPLE-STRUCTURED-LOCATION;VALUE=URI;X-ADDRESS=Can Fosalba\, Els Hostalets
  de Pierola\, Espanya;X-APPLE-RADIUS=100;X-TITLE=Casal Montserrat Can Fosa
 lba:geo:41.5444542,1.8107836000000361
END:VEVENT
END:VCALENDAR