BEGIN:VCALENDAR
VERSION:2.0
PRODID:-//wp-events-plugin.com//7.2.3//EN
TZID:Europe/Madrid
X-WR-TIMEZONE:Europe/Madrid
BEGIN:VEVENT
UID:397@elshostaletsdepierola.cat
DTSTART:20171110T100000Z
DTEND:20171119T170000Z
DTSTAMP:20171108T111536Z
URL:https://elshostaletsdepierola.cat/events/10-19-novembre-setmana-cienci
 a-crip/
SUMMARY:10-19 novembre. Setmana de la Ciència al CRIP
DESCRIPTION:Tota la informació aquí\n\n
ATTACH;FMTTYPE=image/jpeg:https://elshostaletsdepierola.cat/wp-content/upl
 oads/2017/11/SETMANA-CIENCIA-17.jpg
CATEGORIES:Cultura,Esdeveniments,newsletter,Turisme
LOCATION:CRIP\, Aureli Roviralta\,1\, Els Hostalets de Pierola\, Espanya
GEO:41.535661;1.7652459999999337
X-APPLE-STRUCTURED-LOCATION;VALUE=URI;X-ADDRESS=Aureli Roviralta\,1\, Els H
 ostalets de Pierola\, Espanya;X-APPLE-RADIUS=100;X-TITLE=CRIP:geo:41.53566
 1,1.7652459999999337
END:VEVENT
END:VCALENDAR