BEGIN:VCALENDAR
VERSION:2.0
PRODID:-//wp-events-plugin.com//7.2.3//EN
TZID:Europe/Madrid
X-WR-TIMEZONE:Europe/Madrid
BEGIN:VEVENT
UID:400@elshostaletsdepierola.cat
DTSTART:20171210T091500Z
DTEND:20171210T131500Z
DTSTAMP:20171120T093800Z
URL:https://elshostaletsdepierola.cat/events/10-desembre-torneig-rapides-h
 ostalets-pierola/
SUMMARY:10 desembre. I torneig de Ràpides dels Hostalets de Pierola
DESCRIPTION:Tota la informació aquí.
ATTACH;FMTTYPE=image/jpeg:https://elshostaletsdepierola.cat/wp-content/upl
 oads/2017/11/rapida-scacs-10.12.17.jpg
CATEGORIES:Cultura,Esdeveniments,Esport
LOCATION:Sala Casal Catala\, Plaça Cal Figueres 1\, Hostalets de Pierola\,
  Espanya
GEO:41.5348287;1.7685406000000512
X-APPLE-STRUCTURED-LOCATION;VALUE=URI;X-ADDRESS=Plaça Cal Figueres 1\, Hos
 talets de Pierola\, Espanya;X-APPLE-RADIUS=100;X-TITLE=Sala Casal Catala:g
 eo:41.5348287,1.7685406000000512
END:VEVENT
END:VCALENDAR