BEGIN:VCALENDAR
VERSION:2.0
PRODID:-//wp-events-plugin.com//7.2.3//EN
TZID:Europe/Madrid
X-WR-TIMEZONE:Europe/Madrid
BEGIN:VEVENT
UID:317@elshostaletsdepierola.cat
DTSTART:20170610T180000Z
DTEND:20170610T200000Z
DTSTAMP:20170608T094329Z
URL:https://elshostaletsdepierola.cat/events/10-juny-club-lectura-cinema-r
 astres-sandal/
SUMMARY:10 juny. Club de Lectura i Cinema: Rastres de Sàndal
DESCRIPTION:Nova sessió del Club de Lectura i Cinema als Hostalets de Pier
 ola. Aquest dissabte... "Rastres de Sàndal".
ATTACH;FMTTYPE=image/jpeg:https://elshostaletsdepierola.cat/wp-content/upl
 oads/2017/06/cartell-trobnada-10juny.jpg
CATEGORIES:Cultura,Esdeveniments,newsletter
LOCATION:Torre del Sr. Enric\, Plaça Eladi Conde s/n\, Els Hostalets de Pi
 erola\, Catalunya\, 808781\, Espanya
GEO:41.5369908;1.7658020000000079
X-APPLE-STRUCTURED-LOCATION;VALUE=URI;X-ADDRESS=Plaça Eladi Conde s/n\, El
 s Hostalets de Pierola\, Catalunya\, 808781\, Espanya;X-APPLE-RADIUS=100;X
 -TITLE=Torre del Sr. Enric:geo:41.5369908,1.7658020000000079
END:VEVENT
END:VCALENDAR