BEGIN:VCALENDAR
VERSION:2.0
PRODID:-//wp-events-plugin.com//7.2.3//EN
TZID:Europe/Madrid
X-WR-TIMEZONE:Europe/Madrid
BEGIN:VEVENT
UID:871@elshostaletsdepierola.cat
DTSTART:20190910T210000Z
DTEND:20190910T235900Z
DTSTAMP:20190902T073149Z
URL:https://elshostaletsdepierola.cat/events/10-setembre-sopar-de-la-repub
 lica/
SUMMARY:10 setembre. Sopar de la República
DESCRIPTION:Activitat inclosa en el programa de festes de l'Onze de Setembr
 e.\nPodeu consultar-lo a continuació:\n\n[google-drive-embed url="https:/
 /drive.google.com/a/elshostaletsdepierola.cat/file/d/1huSXYEhJhTSigYnGSCqb
 G7d7Q11TnIk3/preview?usp=drivesdk" title="PROGRAMA_11S_2019.pdf" icon="htt
 ps://drive-thirdparty.googleusercontent.com/16/type/application/pdf" width
 ="100%" height="400" style="embed"]
ATTACH;FMTTYPE=image/jpeg:https://elshostaletsdepierola.cat/wp-content/upl
 oads/2019/09/captura-de-pantalla-2019-09-02-a-les-11-29-33.png
CATEGORIES:Esdeveniments,Festes,newsletter
LOCATION:Carrer Església\, Carrer Església\, Els Hostalets de Pierola\, E
 spanya
X-APPLE-STRUCTURED-LOCATION;VALUE=URI;X-ADDRESS=Carrer Església\, Els Host
 alets de Pierola\, Espanya;X-APPLE-RADIUS=100;X-TITLE=Carrer Església:geo
 :0,0
END:VEVENT
END:VCALENDAR