BEGIN:VCALENDAR
VERSION:2.0
PRODID:-//wp-events-plugin.com//7.2.3//EN
TZID:Europe/Madrid
X-WR-TIMEZONE:Europe/Madrid
BEGIN:VEVENT
UID:483@elshostaletsdepierola.cat
DTSTART:20180311T170000Z
DTEND:20180311T200000Z
DTSTAMP:20180306T123459Z
URL:https://elshostaletsdepierola.cat/events/11-marc-amics-musica-euroquar
 tet-barcelona/
SUMMARY:11 de març. Amics de la Música: 'EuroQuartet Barcelona'
DESCRIPTION:Tota la informació del taller i el concert aquí.
ATTACH;FMTTYPE=image/jpeg:https://elshostaletsdepierola.cat/wp-content/upl
 oads/2018/03/117_euroquartet_barcelona-baix.jpg
CATEGORIES:Esdeveniments,newsletter
LOCATION:Auditori de Cal Figueres\, Plaça Cal Figueres 1\, Hostalets de Pi
 erola\, Espanya
GEO:41.5348287;1.7685406000000512
X-APPLE-STRUCTURED-LOCATION;VALUE=URI;X-ADDRESS=Plaça Cal Figueres 1\, Hos
 talets de Pierola\, Espanya;X-APPLE-RADIUS=100;X-TITLE=Auditori de Cal Fig
 ueres:geo:41.5348287,1.7685406000000512
END:VEVENT
END:VCALENDAR