BEGIN:VCALENDAR
VERSION:2.0
PRODID:-//wp-events-plugin.com//7.2.3//EN
TZID:Europe/Madrid
X-WR-TIMEZONE:Europe/Madrid
BEGIN:VEVENT
UID:269@elshostaletsdepierola.cat
DTSTART:20170311T180000Z
DTEND:20170311T200000Z
DTSTAMP:20170306T110340Z
URL:https://elshostaletsdepierola.cat/events/11-marc-inauguracio-exposicio
 -sobre-eugeni-jane/
SUMMARY:11 març. Inauguració exposició sobre Eugeni Jané
DESCRIPTION:L'Associació per la Cultura dels Hostalets de Pierola inaugura
  el proper dissabte\, 11 de març a les 18h l'exposició "De dia i de nit"
  sobre l'obra del fotògraf hostaletenc Eugeni Jané.\n\nL'exposició foto
 gràfica es podrà visitar a la Sala Cal Batista.
ATTACH;FMTTYPE=image/jpeg:https://elshostaletsdepierola.cat/wp-content/upl
 oads/2017/03/CARTELL-EXPO-EUGENI-JANE.jpg
CATEGORIES:Cultura,Esdeveniments,newsletter
LOCATION:Espai de Cultura Cal Batista\, Carrer Major\, 1\, Els Hostalets de
  Pierola\, Espanya
GEO:41.385059;1.9314653000000135
X-APPLE-STRUCTURED-LOCATION;VALUE=URI;X-ADDRESS=Carrer Major\, 1\, Els Host
 alets de Pierola\, Espanya;X-APPLE-RADIUS=100;X-TITLE=Espai de Cultura Cal
  Batista:geo:41.385059,1.9314653000000135
END:VEVENT
END:VCALENDAR