BEGIN:VCALENDAR
VERSION:2.0
PRODID:-//wp-events-plugin.com//7.2.3//EN
TZID:Europe/Madrid
X-WR-TIMEZONE:Europe/Madrid
BEGIN:VEVENT
UID:872@elshostaletsdepierola.cat
DTSTART:20190911T090000Z
DTEND:20190911T110000Z
DTSTAMP:20190902T073458Z
URL:https://elshostaletsdepierola.cat/events/11-setembre-caminada-a-pierol
 a/
SUMMARY:11 setembre. Caminada a Pierola
DESCRIPTION:Activitat inclosa en el programa de festes de l'Onze de Setembr
 e.\nPodeu consultar-lo a continuació:\n\n[google-drive-embed url="https:/
 /drive.google.com/a/elshostaletsdepierola.cat/file/d/1huSXYEhJhTSigYnGSCqb
 G7d7Q11TnIk3/preview?usp=drivesdk" title="PROGRAMA_11S_2019.pdf" icon="htt
 ps://drive-thirdparty.googleusercontent.com/16/type/application/pdf" width
 ="100%" height="400" style="embed"]
ATTACH;FMTTYPE=image/jpeg:https://elshostaletsdepierola.cat/wp-content/upl
 oads/2019/09/captura-de-pantalla-2019-09-02-a-les-11-33-21.png
CATEGORIES:Esdeveniments,newsletter,Tradicions
LOCATION:Plaça de Cal Figueres\, Plaça de Cal Figueres\, Els Hostalets de
  Pierola\, Spain\, 08781\, Espanya
GEO:41.5322568;1.797712400000023
X-APPLE-STRUCTURED-LOCATION;VALUE=URI;X-ADDRESS=Plaça de Cal Figueres\, El
 s Hostalets de Pierola\, Spain\, 08781\, Espanya;X-APPLE-RADIUS=100;X-TITL
 E=Plaça de Cal Figueres:geo:41.5322568,1.797712400000023
END:VEVENT
END:VCALENDAR