BEGIN:VCALENDAR
VERSION:2.0
PRODID:-//wp-events-plugin.com//7.2.3//EN
TZID:Europe/Madrid
X-WR-TIMEZONE:Europe/Madrid
BEGIN:VEVENT
UID:688@elshostaletsdepierola.cat
DTSTART:20190112T100000Z
DTEND:20190113T140000Z
DTSTAMP:20190108T134643Z
URL:https://elshostaletsdepierola.cat/events/12-13-gener-futbol-hostalets-
 lliga-categories/
SUMMARY:12-13 gener. Club Futbol Hostalets. Lliga diverses categories
DESCRIPTION:Partits de lliga de les diferents categories del Club Futbol Ho
 stalets.
CATEGORIES:Esdeveniments,Esport,newsletter
LOCATION:Camp de Futbol Hostalets de Pierola\, carrer del Progrés s/n\, El
 s Hostalets de Pierola\, Barcelona\, 08781\, Catalunya\, Espanya
GEO:41.529233372593005;1.778471589965875
X-APPLE-STRUCTURED-LOCATION;VALUE=URI;X-ADDRESS=carrer del Progrés s/n\, E
 ls Hostalets de Pierola\, Barcelona\, 08781\, Catalunya\, Espanya;X-APPLE-
 RADIUS=100;X-TITLE=Camp de Futbol Hostalets de Pierola:geo:41.529233372593
 005,1.778471589965875
END:VEVENT
END:VCALENDAR