BEGIN:VCALENDAR
VERSION:2.0
PRODID:-//wp-events-plugin.com//7.2.3//EN
TZID:Europe/Madrid
X-WR-TIMEZONE:Europe/Madrid
BEGIN:VEVENT
UID:299@elshostaletsdepierola.cat
DTSTART:20170513T100000Z
DTEND:20170514T130000Z
DTSTAMP:20170510T092446Z
URL:https://elshostaletsdepierola.cat/events/13-14-maig-futbol-temporada-2
 016-17/
SUMMARY:13-14 maig. Club Futbol Hostalets. Temporada 2016-17
DESCRIPTION:
ATTACH;FMTTYPE=image/jpeg:https://elshostaletsdepierola.cat/wp-content/upl
 oads/2017/05/cartell-12-maig-17.jpg
CATEGORIES:Esdeveniments,Esport,newsletter
LOCATION:Parc Camp de la Serra\, Parc Camp de la Serra \, Els Hostalets de 
 Pierola\, Espanya
GEO:41.5348287;1.7685406000000512
X-APPLE-STRUCTURED-LOCATION;VALUE=URI;X-ADDRESS=Parc Camp de la Serra \, El
 s Hostalets de Pierola\, Espanya;X-APPLE-RADIUS=100;X-TITLE=Parc Camp de l
 a Serra:geo:41.5348287,1.7685406000000512
END:VEVENT
END:VCALENDAR