BEGIN:VCALENDAR
VERSION:2.0
PRODID:-//wp-events-plugin.com//7.2.3//EN
TZID:Europe/Madrid
X-WR-TIMEZONE:Europe/Madrid
BEGIN:VEVENT
UID:1229@elshostaletsdepierola.cat
DTSTART:20210413T200000Z
DTEND:20210413T200000Z
DTSTAMP:20210413T065124Z
URL:https://elshostaletsdepierola.cat/events/13-abril-tall-daigua-a-serra-
 alta/
SUMMARY:13 abril. Tall d'aigua a Serra Alta
DESCRIPTION:
ATTACH;FMTTYPE=image/jpeg:https://elshostaletsdepierola.cat/wp-content/upl
 oads/2021/04/screenshot_20210413-084201_word.jpg
CATEGORIES:Esdeveniments,Informació municipal
END:VEVENT
END:VCALENDAR