BEGIN:VCALENDAR
VERSION:2.0
PRODID:-//wp-events-plugin.com//7.2.3//EN
TZID:Europe/Madrid
X-WR-TIMEZONE:Europe/Madrid
BEGIN:VEVENT
UID:447@elshostaletsdepierola.cat
DTSTART:20180113T180000Z
DTEND:20180113T200000Z
DTSTAMP:20180109T123141Z
URL:https://elshostaletsdepierola.cat/events/13-gener-sessio-club-lectura-
 cinema/
SUMMARY:13 gener. Sessió del Club de Lectura i Cinema
DESCRIPTION:Nova sessió del Club de Lectura i Cinema als Hostalets de Pier
 ola. El llibre i la pel·lícula és "El segon origen".
ATTACH;FMTTYPE=image/jpeg:https://elshostaletsdepierola.cat/wp-content/upl
 oads/2018/01/cartell-trobnada13gen-segon-origen.jpg
CATEGORIES:Cultura,Esdeveniments,newsletter
LOCATION:Torre Sr Enric\, Plaça Cal Figueres 1\, Els Hostalets de Pierola\
 , Espanya
GEO:41.5340289;1.770080499999949
X-APPLE-STRUCTURED-LOCATION;VALUE=URI;X-ADDRESS=Plaça Cal Figueres 1\, Els
  Hostalets de Pierola\, Espanya;X-APPLE-RADIUS=100;X-TITLE=Torre Sr Enric:
 geo:41.5340289,1.770080499999949
END:VEVENT
END:VCALENDAR