BEGIN:VCALENDAR
VERSION:2.0
PRODID:-//wp-events-plugin.com//7.2.3//EN
TZID:Europe/Madrid
X-WR-TIMEZONE:Europe/Madrid
BEGIN:VEVENT
UID:240@elshostaletsdepierola.cat
DTSTART:20170114T100000Z
DTEND:20170115T183000Z
DTSTAMP:20170111T091226Z
URL:https://elshostaletsdepierola.cat/events/14-15-gener-futbol-hostalets-
 pierola/
SUMMARY:14 i 15 gener. Futbol als Hostalets de Pierola
DESCRIPTION:
ATTACH;FMTTYPE=image/jpeg:https://elshostaletsdepierola.cat/wp-content/upl
 oads/2017/01/futbol-15-gener-17.jpg
CATEGORIES:Esdeveniments,Esport,newsletter
LOCATION:Camp Municipal de Futbol\, carrer del Progres. Pol. Ind. Camp de l
 a Serra s/n\, Els Hostalets de Pierola\, Barcelona\, 08781\, Catalunya\, E
 spanya
GEO:41.5289121;1.7759825000000546
X-APPLE-STRUCTURED-LOCATION;VALUE=URI;X-ADDRESS=carrer del Progres. Pol. In
 d. Camp de la Serra s/n\, Els Hostalets de Pierola\, Barcelona\, 08781\, C
 atalunya\, Espanya;X-APPLE-RADIUS=100;X-TITLE=Camp Municipal de Futbol:geo
 :41.5289121,1.7759825000000546
END:VEVENT
END:VCALENDAR