BEGIN:VCALENDAR
VERSION:2.0
PRODID:-//wp-events-plugin.com//7.2.3//EN
TZID:Europe/Madrid
X-WR-TIMEZONE:Europe/Madrid
BEGIN:VEVENT
UID:334@elshostaletsdepierola.cat
DTSTART:20170714T210000Z
DTEND:20170716T120000Z
DTSTAMP:20170713T090701Z
URL:https://elshostaletsdepierola.cat/events/14-16-juliol-slot-open-destiu
 -2017/
SUMMARY:14-16 juliol. Slot. Open d'estiu 2017
DESCRIPTION:
ATTACH;FMTTYPE=image/jpeg:https://elshostaletsdepierola.cat/wp-content/upl
 oads/2017/07/1416jul-torneig-slot.jpg
CATEGORIES:Esdeveniments,Esport,newsletter
LOCATION:Slot Centre\, Església\, 61\, Els Hostalets de Pierola\, Barcelon
 a\, 08781\, Catalunya\, Espanya
GEO:41.53551;1.7674200000000155
X-APPLE-STRUCTURED-LOCATION;VALUE=URI;X-ADDRESS=Església\, 61\, Els Hostal
 ets de Pierola\, Barcelona\, 08781\, Catalunya\, Espanya;X-APPLE-RADIUS=10
 0;X-TITLE=Slot Centre:geo:41.53551,1.7674200000000155
END:VEVENT
END:VCALENDAR