BEGIN:VCALENDAR
VERSION:2.0
PRODID:-//wp-events-plugin.com//7.2.3//EN
TZID:Europe/Madrid
X-WR-TIMEZONE:Europe/Madrid
BEGIN:VEVENT
UID:588@elshostaletsdepierola.cat
DTSTART;VALUE=DATE:20180814
DTEND;VALUE=DATE:20180820
DTSTAMP:20180808T212434Z
URL:https://elshostaletsdepierola.cat/events/14-19-dagost-setmana-joventut
 /
SUMMARY:14-19 d'agost. Setmana de la Joventut
DESCRIPTION:Nova edició de la Setmana de la Joventut dels Hostalets de Pie
 rola.\n\nPrograma i informació aquí.
ATTACH;FMTTYPE=image/jpeg:https://elshostaletsdepierola.cat/wp-content/upl
 oads/2018/08/portada-programa-setmana-joventut.jpg
CATEGORIES:Esdeveniments,Joventut,newsletter
END:VEVENT
END:VCALENDAR