BEGIN:VCALENDAR
VERSION:2.0
PRODID:-//wp-events-plugin.com//7.2.3//EN
TZID:Europe/Madrid
X-WR-TIMEZONE:Europe/Madrid
BEGIN:VEVENT
UID:949@elshostaletsdepierola.cat
DTSTART:20191214T110000Z
DTEND:20191214T170000Z
DTSTAMP:20191212T130035Z
URL:https://elshostaletsdepierola.cat/events/14-desembre-festa-de-nadal-a-
 can-fosalba/
SUMMARY:14 desembre. Festa de Nadal a Can Fosalba
DESCRIPTION:
ATTACH;FMTTYPE=image/jpeg:https://elshostaletsdepierola.cat/wp-content/upl
 oads/2019/12/captura-de-pantalla-2019-12-02-a-les-11-40-22.png
CATEGORIES:Esdeveniments,Festes,newsletter
LOCATION:Casal Montserrat Can Fosalba\, Can Fosalba\, Els Hostalets de Pier
 ola\, Espanya
GEO:41.5444542;1.8107836000000361
X-APPLE-STRUCTURED-LOCATION;VALUE=URI;X-ADDRESS=Can Fosalba\, Els Hostalets
  de Pierola\, Espanya;X-APPLE-RADIUS=100;X-TITLE=Casal Montserrat Can Fosa
 lba:geo:41.5444542,1.8107836000000361
END:VEVENT
END:VCALENDAR