BEGIN:VCALENDAR
VERSION:2.0
PRODID:-//wp-events-plugin.com//7.2.3//EN
TZID:Europe/Madrid
X-WR-TIMEZONE:Europe/Madrid
BEGIN:VEVENT
UID:339@elshostaletsdepierola.cat
DTSTART:20170714T220000Z
DTEND:20170714T230000Z
DTSTAMP:20170712T081248Z
URL:https://elshostaletsdepierola.cat/events/14-juliol-concert-fresca-euge
 ni-muriel/
SUMMARY:14 juliol. Concert d'estiu a la fresca. Eugeni Muriel i Cia
DESCRIPTION:
ATTACH;FMTTYPE=image/jpeg:https://elshostaletsdepierola.cat/wp-content/upl
 oads/2017/07/Records-de-viatje-14-07-17.jpg
CATEGORIES:Cultura,Esdeveniments,newsletter
LOCATION:Torre del Senyor Enric\, Isidre Vallés\, 1\, Els Hostalets de Pie
 rola\, Spain\, 808781\, Espanya
GEO:41.5339863;1.7696766000000252
X-APPLE-STRUCTURED-LOCATION;VALUE=URI;X-ADDRESS=Isidre Vallés\, 1\, Els Ho
 stalets de Pierola\, Spain\, 808781\, Espanya;X-APPLE-RADIUS=100;X-TITLE=T
 orre del Senyor Enric:geo:41.5339863,1.7696766000000252
END:VEVENT
END:VCALENDAR