BEGIN:VCALENDAR
VERSION:2.0
PRODID:-//wp-events-plugin.com//7.2.3//EN
TZID:Europe/Madrid
X-WR-TIMEZONE:Europe/Madrid
BEGIN:VEVENT
UID:977@elshostaletsdepierola.cat
DTSTART:20200115T193000Z
DTEND:20200115T213000Z
DTSTAMP:20200112T202020Z
URL:https://elshostaletsdepierola.cat/events/15-gener-ple/
SUMMARY:15 gener. Ple Ordinari
DESCRIPTION:[google-drive-embed url="https://drive.google.com/a/elshostalet
 sdepierola.cat/file/d/1YmCIkOdQFzoFL3yBjloz43Kpu6N2Ox7v/preview?usp=drives
 dk" title="Decret convocatòria ple ordinari 15012020.pdf" icon="https://
 drive-thirdparty.googleusercontent.com/16/type/application/pdf" width="100
 %" height="400" style="embed"]
ATTACH;FMTTYPE=image/jpeg:https://elshostaletsdepierola.cat/wp-content/upl
 oads/2019/11/logo19.png
CATEGORIES:Esdeveniments,Informació municipal
LOCATION:Auditori de Cal Figueres\, Plaça Cal Figueres 1\, Hostalets de Pi
 erola\, Espanya
GEO:41.5348287;1.7685406000000512
X-APPLE-STRUCTURED-LOCATION;VALUE=URI;X-ADDRESS=Plaça Cal Figueres 1\, Hos
 talets de Pierola\, Espanya;X-APPLE-RADIUS=100;X-TITLE=Auditori de Cal Fig
 ueres:geo:41.5348287,1.7685406000000512
END:VEVENT
END:VCALENDAR