BEGIN:VCALENDAR
VERSION:2.0
PRODID:-//wp-events-plugin.com//7.2.3//EN
TZID:Europe/Madrid
X-WR-TIMEZONE:Europe/Madrid
BEGIN:VEVENT
UID:546@elshostaletsdepierola.cat
DTSTART:20180615T180000Z
DTEND:20180615T190000Z
DTSTAMP:20180612T111342Z
URL:https://elshostaletsdepierola.cat/events/15-juny-bibliocces-lhora-cont
 e/
SUMMARY:15 juny. Biblio@ccés. L'hora del conte
DESCRIPTION:Amb la companyia 'La mama i la padrina'
ATTACH;FMTTYPE=image/jpeg:https://elshostaletsdepierola.cat/wp-content/upl
 oads/2018/06/lhora-del-conte-15juny-baix.jpg
CATEGORIES:Cultura,Esdeveniments,newsletter
LOCATION:Biblio@ccés\, Anselm Clavé\, 6\, Els Hostalets de Pierola\, Espa
 nya
GEO:41.53285;1.7733405000000175
X-APPLE-STRUCTURED-LOCATION;VALUE=URI;X-ADDRESS=Anselm Clavé\, 6\, Els Hos
 talets de Pierola\, Espanya;X-APPLE-RADIUS=100;X-TITLE=Biblio@ccés:geo:41
 .53285,1.7733405000000175
END:VEVENT
END:VCALENDAR