BEGIN:VCALENDAR
VERSION:2.0
PRODID:-//wp-events-plugin.com//7.2.3//EN
TZID:Europe/Madrid
X-WR-TIMEZONE:Europe/Madrid
BEGIN:VEVENT
UID:1239@elshostaletsdepierola.cat
DTSTART:20210515T160000Z
DTEND:20210515T180000Z
DTSTAMP:20210513T064317Z
URL:https://elshostaletsdepierola.cat/events/15-maig-2a-jornada-prevencio-
 incendis/
SUMMARY:15 maig. 2a jornada prevenció incendis
DESCRIPTION:
ATTACH;FMTTYPE=image/jpeg:https://elshostaletsdepierola.cat/wp-content/upl
 oads/2021/05/captura-de-pantalla-2021-05-13-a-les-8-43-02.png
CATEGORIES:Esdeveniments,Medi Ambient,newsletter
LOCATION:Auditori de Cal Figueres\, Plaça Cal Figueres 1\, Hostalets de Pi
 erola\, Espanya
GEO:41.5348287;1.7685406000000512
X-APPLE-STRUCTURED-LOCATION;VALUE=URI;X-ADDRESS=Plaça Cal Figueres 1\, Hos
 talets de Pierola\, Espanya;X-APPLE-RADIUS=100;X-TITLE=Auditori de Cal Fig
 ueres:geo:41.5348287,1.7685406000000512
END:VEVENT
END:VCALENDAR