BEGIN:VCALENDAR
VERSION:2.0
PRODID:-//wp-events-plugin.com//7.2.3//EN
TZID:Europe/Madrid
X-WR-TIMEZONE:Europe/Madrid
BEGIN:VEVENT
UID:419@elshostaletsdepierola.cat
DTSTART:20171216T104500Z
DTEND:20171217T174500Z
DTSTAMP:20171213T112610Z
URL:https://elshostaletsdepierola.cat/events/16-17-desembre-jornada-lliga-
 club-futbol-hostalets/
SUMMARY:16-17 desembre. Jornada de lliga Club Futbol Hostalets
DESCRIPTION:
ATTACH;FMTTYPE=image/jpeg:https://elshostaletsdepierola.cat/wp-content/upl
 oads/2017/12/jornada-16-desembre-17.jpg
CATEGORIES:Esdeveniments,Esport,newsletter
LOCATION:Camp de Futbol Hostalets de Pierola\, carrer del Progrés s/n\, El
 s Hostalets de Pierola\, Barcelona\, 08781\, Catalunya\, Espanya
GEO:41.529233372593005;1.778471589965875
X-APPLE-STRUCTURED-LOCATION;VALUE=URI;X-ADDRESS=carrer del Progrés s/n\, E
 ls Hostalets de Pierola\, Barcelona\, 08781\, Catalunya\, Espanya;X-APPLE-
 RADIUS=100;X-TITLE=Camp de Futbol Hostalets de Pierola:geo:41.529233372593
 005,1.778471589965875
END:VEVENT
END:VCALENDAR