BEGIN:VCALENDAR
VERSION:2.0
PRODID:-//wp-events-plugin.com//7.2.3//EN
TZID:Europe/Madrid
X-WR-TIMEZONE:Europe/Madrid
BEGIN:VEVENT
UID:354@elshostaletsdepierola.cat
DTSTART:20170816T170000Z
DTEND:20170820T235900Z
DTSTAMP:20170808T104946Z
URL:https://elshostaletsdepierola.cat/events/16-20-agost-40a-setmana-joven
 tut/
SUMMARY:16-20 agost. 40a Setmana de la Joventut.
DESCRIPTION:40a Setmana de la Joventut dels Hostalets de Pierola. Tota la i
 nformació i programa clicant aquí.
ATTACH;FMTTYPE=image/jpeg:https://elshostaletsdepierola.cat/wp-content/upl
 oads/2017/08/Cartell-Arc-2017_IMPRIMIR_DNA3-Reduit.jpg
CATEGORIES:Esdeveniments,Joventut,newsletter
END:VEVENT
END:VCALENDAR