BEGIN:VCALENDAR
VERSION:2.0
PRODID:-//wp-events-plugin.com//7.2.3//EN
TZID:Europe/Madrid
X-WR-TIMEZONE:Europe/Madrid
BEGIN:VEVENT
UID:424@elshostaletsdepierola.cat
DTSTART:20171216T180000Z
DTEND:20171216T200000Z
DTSTAMP:20171213T120917Z
URL:https://elshostaletsdepierola.cat/events/16-desembre-nadal-cantada-nad
 ales-can-fosalba/
SUMMARY:16 desembre. Nadal: Cantada de Nadales a Can Fosalba
DESCRIPTION:CANTADA DE NADALES A CÀRREC DEL COR ROCIERO ‘DARAJA’\n\nTa
 mbé hi haurà Mercat d’artesania i Xocolatada popular.\nAl Local social
  del Casal Montserrat de Can Fosalba\n\nAssociació de veïns i propietari
 s de Can Fosalba\nen conveni amb l’Ajuntament dels Hostalets de Pierola.
CATEGORIES:Cultura,Esdeveniments,newsletter
LOCATION:Casal Montserrat Can Fosalba\, Can Fosalba\, Els Hostalets de Pier
 ola\, Espanya
GEO:41.5444542;1.8107836000000361
X-APPLE-STRUCTURED-LOCATION;VALUE=URI;X-ADDRESS=Can Fosalba\, Els Hostalets
  de Pierola\, Espanya;X-APPLE-RADIUS=100;X-TITLE=Casal Montserrat Can Fosa
 lba:geo:41.5444542,1.8107836000000361
END:VEVENT
END:VCALENDAR