BEGIN:VCALENDAR
VERSION:2.0
PRODID:-//wp-events-plugin.com//7.2.3//EN
TZID:Europe/Madrid
X-WR-TIMEZONE:Europe/Madrid
BEGIN:VEVENT
UID:661@elshostaletsdepierola.cat
DTSTART:20181216T100000Z
DTEND:20181216T120000Z
DTSTAMP:20181214T150508Z
URL:https://elshostaletsdepierola.cat/events/16-desembre-nadal-pedalada-pe
 r-la-marato-tv3/
SUMMARY:16 desembre. Nadal. Pedalada per La Marató TV3
DESCRIPTION:Sortida des de la plaça Cal Figueres i arribada al poliesporti
 u municipal on es donarà l’esmorzar per tots els participants.\nInscrip
 ció-donatiu de 2€ per participant i 30 minuts abans de començar la ped
 alada.\nCircuit de 6 km.\n\nTots els diners recaptats amb les inscripcions
  i donatius seran ingressats a la Marató de TV3.
ATTACH;FMTTYPE=image/jpeg:https://elshostaletsdepierola.cat/wp-content/upl
 oads/2018/12/la-marato.jpg
CATEGORIES:Esdeveniments,Esport,newsletter
LOCATION:Plaça de Cal Figueres\, Plaça de Cal Figueres\, Els Hostalets de
  Pierola\, Spain\, 08781\, Espanya
GEO:41.5322568;1.797712400000023
X-APPLE-STRUCTURED-LOCATION;VALUE=URI;X-ADDRESS=Plaça de Cal Figueres\, El
 s Hostalets de Pierola\, Spain\, 08781\, Espanya;X-APPLE-RADIUS=100;X-TITL
 E=Plaça de Cal Figueres:geo:41.5322568,1.797712400000023
END:VEVENT
END:VCALENDAR