BEGIN:VCALENDAR
VERSION:2.0
PRODID:-//wp-events-plugin.com//7.2.3//EN
TZID:Europe/Madrid
X-WR-TIMEZONE:Europe/Madrid
BEGIN:VEVENT
UID:1141@elshostaletsdepierola.cat
DTSTART:20201016T150000Z
DTEND:20201016T180000Z
DTSTAMP:20201015T105722Z
URL:https://elshostaletsdepierola.cat/events/16-octubre-tarda-a-la-pista-c
 ruyff/
SUMMARY:16 octubre. Tarda a la pista Cruyff
DESCRIPTION:
ATTACH;FMTTYPE=image/jpeg:https://elshostaletsdepierola.cat/wp-content/upl
 oads/2020/09/16o.jpg
CATEGORIES:Esdeveniments,Joventut,newsletter
LOCATION:Cruyff Court Els Hostalets de Pierola\, Parc Cal Ponsa\, Els Hosta
 lets de Pierola\, Espanya
X-APPLE-STRUCTURED-LOCATION;VALUE=URI;X-ADDRESS=Parc Cal Ponsa\, Els Hostal
 ets de Pierola\, Espanya;X-APPLE-RADIUS=100;X-TITLE=Cruyff Court Els Hosta
 lets de Pierola:geo:0,0
END:VEVENT
END:VCALENDAR