BEGIN:VCALENDAR
VERSION:2.0
PRODID:-//wp-events-plugin.com//7.2.3//EN
TZID:Europe/Madrid
X-WR-TIMEZONE:Europe/Madrid
BEGIN:VEVENT
UID:287@elshostaletsdepierola.cat
DTSTART:20170417T120000Z
DTEND:20170423T190000Z
DTSTAMP:20170413T103810Z
URL:https://elshostaletsdepierola.cat/events/17-23-setmana-gent-gran/
SUMMARY:17-23. Setmana de la Gent Gran.
DESCRIPTION:[google-drive-embed url="https://drive.google.com/a/elshostalet
 sdepierola.cat/file/d/0B8yJN10hLhQTMVFYSzgxRmtkMVU/preview?usp=drivesdk" t
 itle="2017_SetGentGran_v7webbaix.pdf" icon="https://drive-thirdparty.googl
 eusercontent.com/16/type/application/pdf" width="100%" height="400" style=
 "embed"]
ATTACH;FMTTYPE=image/jpeg:https://elshostaletsdepierola.cat/wp-content/upl
 oads/2017/04/caratula-setmana-gent-gran-1.jpg
CATEGORIES:Cultura,Esdeveniments,Gent Gran,newsletter
END:VEVENT
END:VCALENDAR