BEGIN:VCALENDAR
VERSION:2.0
PRODID:-//wp-events-plugin.com//7.2.3//EN
TZID:Europe/Madrid
X-WR-TIMEZONE:Europe/Madrid
BEGIN:VEVENT
UID:356@elshostaletsdepierola.cat
DTSTART:20170817T220000Z
DTEND:20170817T233000Z
DTSTAMP:20170810T132347Z
URL:https://elshostaletsdepierola.cat/events/17-agost-cinema-fresca-rogue-
 one/
SUMMARY:17 agost. Cinema a la Fresca: 'Rogue One'
DESCRIPTION:
ATTACH;FMTTYPE=image/jpeg:https://elshostaletsdepierola.cat/wp-content/upl
 oads/2017/08/rogue-one-character-line-up.jpg
CATEGORIES:Cultura,Esdeveniments
LOCATION:Poliesportiu de Serra Alta\, Serra Alta\, Els Hostalets de Pierola
 \, Espanya
GEO:41.5491483;1.7968682000000626
X-APPLE-STRUCTURED-LOCATION;VALUE=URI;X-ADDRESS=Serra Alta\, Els Hostalets 
 de Pierola\, Espanya;X-APPLE-RADIUS=100;X-TITLE=Poliesportiu de Serra Alta
 :geo:41.5491483,1.7968682000000626
END:VEVENT
END:VCALENDAR