BEGIN:VCALENDAR
VERSION:2.0
PRODID:-//wp-events-plugin.com//7.2.3//EN
TZID:Europe/Madrid
X-WR-TIMEZONE:Europe/Madrid
BEGIN:VEVENT
UID:472@elshostaletsdepierola.cat
DTSTART:20180217T213000Z
DTEND:20180217T235900Z
DTSTAMP:20180215T130221Z
URL:https://elshostaletsdepierola.cat/events/17-febrer-carnaval-hostalets-
 pierola/
SUMMARY:17 febrer. Carnaval als Hostalets de Pierola
DESCRIPTION:El Casal Català dels Hostalets de Pierola organitza una de le
 s festes més esperades de tot l’any!\n\nEl ball de Carnaval amb desfila
 da\, concurs de disfresses i orquestra. A partir de les 21.30h s’obriran
  les portes per a tothom que porti una disfressa. A partir de les 22.00h l
 ’accés estarà obert a tothom.\n\nEn el concurs de disfresses hi haurà
  dues categories: infantil i adults. Els premis infantils          co
 rrespondran a lots de llibre gràcies a l’Arca. En la categoria adulta e
 l primer premi                s’emportarà 300€\, el segon 150
 € i un tercer de 75€.\n\nPreus: Totes les persones disfressades tenen 
 entrada gratuïta. Els socis entrada gratuïta.        Els no socis i 
 no disfressats entrada a 7€.\n\nTota la info aquí.
ATTACH;FMTTYPE=image/jpeg:https://elshostaletsdepierola.cat/wp-content/upl
 oads/2018/02/carnestoltes-casal-catala.jpg
CATEGORIES:Cultura,Esdeveniments,Joventut,newsletter
LOCATION:Sala Teatre Casal Català\, Isidre Vallès \, 30\, Els Hostalets d
 e Pierola\, Espanya
GEO:41.5334999;1.7705200000000332
X-APPLE-STRUCTURED-LOCATION;VALUE=URI;X-ADDRESS=Isidre Vallès \, 30\, Els 
 Hostalets de Pierola\, Espanya;X-APPLE-RADIUS=100;X-TITLE=Sala Teatre Casa
 l Català:geo:41.5334999,1.7705200000000332
END:VEVENT
END:VCALENDAR