BEGIN:VCALENDAR
VERSION:2.0
PRODID:-//wp-events-plugin.com//7.2.3//EN
TZID:Europe/Madrid
X-WR-TIMEZONE:Europe/Madrid
BEGIN:VEVENT
UID:1007@elshostaletsdepierola.cat
DTSTART:20200217T180000Z
DTEND:20200217T190000Z
DTSTAMP:20200214T094227Z
URL:https://elshostaletsdepierola.cat/events/17-febrer-xerrada-app-al-casa
 l-davis/
SUMMARY:17 febrer. Xerrada APP al Casal d'avis
DESCRIPTION:
ATTACH;FMTTYPE=image/jpeg:https://elshostaletsdepierola.cat/wp-content/upl
 oads/2020/02/xerrada-app-avis.png
CATEGORIES:Esdeveniments,Informació municipal,newsletter
END:VEVENT
END:VCALENDAR