BEGIN:VCALENDAR
VERSION:2.0
PRODID:-//wp-events-plugin.com//7.2.3//EN
TZID:Europe/Madrid
X-WR-TIMEZONE:Europe/Madrid
BEGIN:VEVENT
UID:797@elshostaletsdepierola.cat
DTSTART:20190517T174500Z
DTEND:20190517T190000Z
DTSTAMP:20190516T095815Z
URL:https://elshostaletsdepierola.cat/events/17-maig-espai-dialeg-pj/
SUMMARY:17 maig. Espai diàleg PJ
DESCRIPTION:
ATTACH;FMTTYPE=image/jpeg:https://elshostaletsdepierola.cat/wp-content/upl
 oads/2019/05/17-5-espai-dialeg.jpg
CATEGORIES:Esdeveniments,Joventut,newsletter
LOCATION:\, \, 
GEO:41.53331;1.7712699999999586
X-APPLE-STRUCTURED-LOCATION;VALUE=URI;X-ADDRESS=\, ;X-APPLE-RADIUS=100;X-TI
 TLE=:geo:41.53331,1.7712699999999586
END:VEVENT
END:VCALENDAR