BEGIN:VCALENDAR
VERSION:2.0
PRODID:-//wp-events-plugin.com//7.2.3//EN
TZID:Europe/Madrid
X-WR-TIMEZONE:Europe/Madrid
BEGIN:VEVENT
UID:902@elshostaletsdepierola.cat
DTSTART:20191017T190000Z
DTEND:20191017T210000Z
DTSTAMP:20191017T084346Z
URL:https://elshostaletsdepierola.cat/events/17-octubre-banc-de-terres-par
 c-natural-montserrat/
SUMMARY:17 octubre. Banc de terres (Ajornat al 7 de novembre)
DESCRIPTION:
ATTACH;FMTTYPE=image/jpeg:https://elshostaletsdepierola.cat/wp-content/upl
 oads/2019/10/captura-de-pantalla-2019-10-11-a-les-11-25-11.png
CATEGORIES:Esdeveniments,Medi Ambient,newsletter
END:VEVENT
END:VCALENDAR