BEGIN:VCALENDAR
VERSION:2.0
PRODID:-//wp-events-plugin.com//7.2.3//EN
TZID:Europe/Madrid
X-WR-TIMEZONE:Europe/Madrid
BEGIN:VEVENT
UID:571@elshostaletsdepierola.cat
DTSTART:20180718T220000Z
DTEND:20180718T235900Z
DTSTAMP:20180712T111842Z
URL:https://elshostaletsdepierola.cat/events/18-juliol-concerts-fresca-duo
 /
SUMMARY:18 juliol. Concerts a la Fresca: Xavi Díaz i Issac Romagosa Duo
DESCRIPTION:
ATTACH;FMTTYPE=image/jpeg:https://elshostaletsdepierola.cat/wp-content/upl
 oads/2018/06/cicle-musica-a-la-fresca.jpg
CATEGORIES:Cultura,Esdeveniments,Joventut,newsletter
LOCATION:Casal Català\, Isidre Vallès\, 30\, Els Hostalets de Pierola\, C
 atalunya\, 808781\, Espanya
GEO:41.5334999;1.7705200000000332
X-APPLE-STRUCTURED-LOCATION;VALUE=URI;X-ADDRESS=Isidre Vallès\, 30\, Els H
 ostalets de Pierola\, Catalunya\, 808781\, Espanya;X-APPLE-RADIUS=100;X-TI
 TLE=Casal Català:geo:41.5334999,1.7705200000000332
END:VEVENT
END:VCALENDAR