BEGIN:VCALENDAR
VERSION:2.0
PRODID:-//wp-events-plugin.com//7.2.3//EN
TZID:Europe/Madrid
X-WR-TIMEZONE:Europe/Madrid
BEGIN:VEVENT
UID:134@elshostaletsdepierola.cat
DTSTART:20160618T110000Z
DTEND:20160618T200000Z
DTSTAMP:20160614T124053Z
URL:https://elshostaletsdepierola.cat/events/18-juny-inauguracio-temporada
 -piscina/
SUMMARY:18 de juny. Inauguració temporada de piscina
DESCRIPTION:
ATTACH;FMTTYPE=image/jpeg:https://elshostaletsdepierola.cat/wp-content/upl
 oads/2016/06/piscina-2016.jpg
CATEGORIES:Esdeveniments,Esport,newsletter
LOCATION:Piscina dels Hostalets de Pierola\, carrer de Pau Casals\, 1\, Els
  Hostalets de Pierola\, Barcelona\, Catalunya\, Espanya
GEO:41.53357;1.7669399999999769
X-APPLE-STRUCTURED-LOCATION;VALUE=URI;X-ADDRESS=carrer de Pau Casals\, 1\, 
 Els Hostalets de Pierola\, Barcelona\, Catalunya\, Espanya;X-APPLE-RADIUS=
 100;X-TITLE=Piscina dels Hostalets de Pierola:geo:41.53357,1.7669399999999
 769
END:VEVENT
END:VCALENDAR