BEGIN:VCALENDAR
VERSION:2.0
PRODID:-//wp-events-plugin.com//7.2.3//EN
TZID:Europe/Madrid
X-WR-TIMEZONE:Europe/Madrid
BEGIN:VEVENT
UID:398@elshostaletsdepierola.cat
DTSTART:20171118T160000Z
DTEND:20171118T180000Z
DTSTAMP:20171109T095457Z
URL:https://elshostaletsdepierola.cat/events/18-novembre-dia-infancia/
SUMMARY:18 novembre. Dia de la Infància
DESCRIPTION:Tota la informació aquí
ATTACH;FMTTYPE=image/jpeg:https://elshostaletsdepierola.cat/wp-content/upl
 oads/2017/11/Dia-infancia-2017.jpg
CATEGORIES:Esdeveniments,Joventut
LOCATION:Plaça del Dr. Conde\, Plaça del Dr. Conde\, Els Hostalets de Pie
 rola\, Barcelona\, 08781\, Espanya
GEO:41.5369908;1.7658020000000079
X-APPLE-STRUCTURED-LOCATION;VALUE=URI;X-ADDRESS=Plaça del Dr. Conde\, Els 
 Hostalets de Pierola\, Barcelona\, 08781\, Espanya;X-APPLE-RADIUS=100;X-TI
 TLE=Plaça del Dr. Conde:geo:41.5369908,1.7658020000000079
END:VEVENT
END:VCALENDAR