BEGIN:VCALENDAR
VERSION:2.0
PRODID:-//wp-events-plugin.com//7.2.3//EN
TZID:Europe/Madrid
X-WR-TIMEZONE:Europe/Madrid
BEGIN:VEVENT
UID:1326@elshostaletsdepierola.cat
DTSTART:20210819T200000Z
DTEND:20210819T213000Z
DTSTAMP:20210804T130143Z
URL:https://elshostaletsdepierola.cat/events/19-dagost-cinema-a-la-fresca/
SUMMARY:19 d'agost. Cinema a la fresca
DESCRIPTION:
ATTACH;FMTTYPE=image/jpeg:https://elshostaletsdepierola.cat/wp-content/upl
 oads/2021/08/captura-de-pantalla-2021-08-04-a-les-14-58-48.png
CATEGORIES:Cultura,Esdeveniments,Estiu
LOCATION:Pista poliesportiva\, Pista poliesportiva \, Els Hostalets de Pier
 ola\, Espanya
GEO:41.5348287;1.7685406000000512
X-APPLE-STRUCTURED-LOCATION;VALUE=URI;X-ADDRESS=Pista poliesportiva \, Els 
 Hostalets de Pierola\, Espanya;X-APPLE-RADIUS=100;X-TITLE=Pista poliesport
 iva:geo:41.5348287,1.7685406000000512
END:VEVENT
END:VCALENDAR