BEGIN:VCALENDAR
VERSION:2.0
PRODID:-//wp-events-plugin.com//7.2.3//EN
TZID:Europe/Madrid
X-WR-TIMEZONE:Europe/Madrid
BEGIN:VEVENT
UID:320@elshostaletsdepierola.cat
DTSTART:20170619T180000Z
DTEND:20170619T210000Z
DTSTAMP:20170615T095606Z
URL:https://elshostaletsdepierola.cat/events/19-juny-acapte-sang/
SUMMARY:19 juny. Acapte de sang.
DESCRIPTION:
ATTACH;FMTTYPE=image/jpeg:https://elshostaletsdepierola.cat/wp-content/upl
 oads/2017/06/19-juny-2017-baix.jpg
CATEGORIES:Esdeveniments,newsletter
LOCATION:dispensari mèdic dels Hostalets de Pierola\, Plaça de Cal Figuer
 es\, 3\, Els Hostalets de Pierola\, Espanya
GEO:41.5348287;1.7685406000000512
X-APPLE-STRUCTURED-LOCATION;VALUE=URI;X-ADDRESS=Plaça de Cal Figueres\, 3\
 , Els Hostalets de Pierola\, Espanya;X-APPLE-RADIUS=100;X-TITLE=dispensari
  mèdic dels Hostalets de Pierola:geo:41.5348287,1.7685406000000512
END:VEVENT
END:VCALENDAR