BEGIN:VCALENDAR
VERSION:2.0
PRODID:-//wp-events-plugin.com//7.2.3//EN
TZID:Europe/Madrid
X-WR-TIMEZONE:Europe/Madrid
BEGIN:VEVENT
UID:1278@elshostaletsdepierola.cat
DTSTART:20210619T170000Z
DTEND:20210619T181500Z
DTSTAMP:20210618T073628Z
URL:https://elshostaletsdepierola.cat/events/19-juny-concert-fi-de-curs-ce
 m/
SUMMARY:19 juny. Concert fi de curs CEM (a la carpa)
DESCRIPTION:Nota: Davant l'alta probabilitat de pluja\, aquest acte es tras
 llada a la carpa de la pista poliesportiva.
ATTACH;FMTTYPE=image/jpeg:https://elshostaletsdepierola.cat/wp-content/upl
 oads/2021/06/cemficurs21.png
CATEGORIES:Cultura,Esdeveniments,newsletter
LOCATION:CRIP\, Aureli Roviralta\,1\, Els Hostalets de Pierola\, Espanya
GEO:41.535661;1.7652459999999337
X-APPLE-STRUCTURED-LOCATION;VALUE=URI;X-ADDRESS=Aureli Roviralta\,1\, Els H
 ostalets de Pierola\, Espanya;X-APPLE-RADIUS=100;X-TITLE=CRIP:geo:41.53566
 1,1.7652459999999337
END:VEVENT
END:VCALENDAR