BEGIN:VCALENDAR
VERSION:2.0
PRODID:-//wp-events-plugin.com//7.2.3//EN
TZID:Europe/Madrid
X-WR-TIMEZONE:Europe/Madrid
BEGIN:VEVENT
UID:300@elshostaletsdepierola.cat
DTSTART:20170519T201500Z
DTEND:20170519T223000Z
DTSTAMP:20170510T102027Z
URL:https://elshostaletsdepierola.cat/events/19-maig-opera-puritani-bellin
 i/
SUMMARY:19 maig. Òpera: "I Puritani" de Bellini
DESCRIPTION:Tota la informació i reserva d'entrades a: www.apchostalets.ca
 t
ATTACH;FMTTYPE=image/jpeg:https://elshostaletsdepierola.cat/wp-content/upl
 oads/2017/05/CARTELL-PURITANI.jpg
CATEGORIES:Cultura,Esdeveniments
LOCATION:Auditori de Cal Figueres\, Plaça Cal Figueres 1\, Hostalets de Pi
 erola\, Espanya
GEO:41.5348287;1.7685406000000512
X-APPLE-STRUCTURED-LOCATION;VALUE=URI;X-ADDRESS=Plaça Cal Figueres 1\, Hos
 talets de Pierola\, Espanya;X-APPLE-RADIUS=100;X-TITLE=Auditori de Cal Fig
 ueres:geo:41.5348287,1.7685406000000512
END:VEVENT
END:VCALENDAR