BEGIN:VCALENDAR
VERSION:2.0
PRODID:-//wp-events-plugin.com//7.2.3//EN
TZID:Europe/Madrid
X-WR-TIMEZONE:Europe/Madrid
BEGIN:VEVENT
UID:1154@elshostaletsdepierola.cat
DTSTART:20201019T160000Z
DTEND:20201019T180000Z
DTSTAMP:20201016T082121Z
URL:https://elshostaletsdepierola.cat/events/19-octubre-alimentacio-i-diet
 es-adaptades-per-a-les-persones-grans/
SUMMARY:19 octubre. Alimentació i dietes adaptades per a les persones gran
 s
DESCRIPTION:
ATTACH;FMTTYPE=image/jpeg:https://elshostaletsdepierola.cat/wp-content/upl
 oads/2020/10/tallerggdietes.jpg
CATEGORIES:Esdeveniments,Gent Gran
LOCATION:Auditori de Cal Figueres\, Plaça Cal Figueres 1\, Hostalets de Pi
 erola\, Espanya
GEO:41.5348287;1.7685406000000512
X-APPLE-STRUCTURED-LOCATION;VALUE=URI;X-ADDRESS=Plaça Cal Figueres 1\, Hos
 talets de Pierola\, Espanya;X-APPLE-RADIUS=100;X-TITLE=Auditori de Cal Fig
 ueres:geo:41.5348287,1.7685406000000512
END:VEVENT
END:VCALENDAR