BEGIN:VCALENDAR
VERSION:2.0
PRODID:-//wp-events-plugin.com//7.2.3//EN
TZID:Europe/Madrid
X-WR-TIMEZONE:Europe/Madrid
BEGIN:VEVENT
UID:275@elshostaletsdepierola.cat
DTSTART:20170402T090000Z
DTEND:20170402T123000Z
DTSTAMP:20170331T105606Z
URL:https://elshostaletsdepierola.cat/events/2-abril-caminada-pedalada-btt
 /
SUMMARY:2 abril. Caminada i pedalada BTT
DESCRIPTION:Tota la informació aquí.
ATTACH;FMTTYPE=image/jpeg:https://elshostaletsdepierola.cat/wp-content/upl
 oads/2017/03/2017_03_Cartell_Pedalada_Caminada_v2-baix.jpg
CATEGORIES:Esdeveniments,Esport,newsletter
END:VEVENT
END:VCALENDAR