BEGIN:VCALENDAR
VERSION:2.0
PRODID:-//wp-events-plugin.com//7.2.3//EN
TZID:Europe/Madrid
X-WR-TIMEZONE:Europe/Madrid
BEGIN:VEVENT
UID:377@elshostaletsdepierola.cat
DTSTART:20171202T180000Z
DTEND:20171202T200000Z
DTSTAMP:20171129T094106Z
URL:https://elshostaletsdepierola.cat/events/2-desembre-cinema-familiar-ca
 rs-3/
SUMMARY:2 desembre. Cinema familiar: Cars 3
DESCRIPTION:\n\nA l'auditori de Cal Figueres. Preu: 4€ infants i adults
CATEGORIES:Cultura,Esdeveniments,Joventut,newsletter
LOCATION:Auditori de Cal Figueres\, Plaça Cal Figueres 1\, Hostalets de Pi
 erola\, Espanya
GEO:41.5348287;1.7685406000000512
X-APPLE-STRUCTURED-LOCATION;VALUE=URI;X-ADDRESS=Plaça Cal Figueres 1\, Hos
 talets de Pierola\, Espanya;X-APPLE-RADIUS=100;X-TITLE=Auditori de Cal Fig
 ueres:geo:41.5348287,1.7685406000000512
END:VEVENT
END:VCALENDAR