BEGIN:VCALENDAR
VERSION:2.0
PRODID:-//wp-events-plugin.com//7.2.3//EN
TZID:Europe/Madrid
X-WR-TIMEZONE:Europe/Madrid
BEGIN:VEVENT
UID:327@elshostaletsdepierola.cat
DTSTART:20170702T183000Z
DTEND:20170702T203000Z
DTSTAMP:20170626T105130Z
URL:https://elshostaletsdepierola.cat/events/2-juliol-16a-festa-sardana-de
 ls-hostalets-pierola/
SUMMARY:2 juliol. 16a Festa de la Sardana dels Hostalets de Pierola
DESCRIPTION:[google-drive-embed url="https://drive.google.com/a/elshostalet
 sdepierola.cat/file/d/0B8yJN10hLhQTb0FhSmw3RGcyS1U/preview?usp=drivesdk" t
 itle="Diptic 16a FEsta Sardana.pdf" icon="https://drive-thirdparty.googleu
 sercontent.com/16/type/application/pdf" width="100%" height="400" style="e
 mbed"]
ATTACH;FMTTYPE=image/jpeg:https://elshostaletsdepierola.cat/wp-content/upl
 oads/2017/06/Cartell-Sardanes-001.jpg
CATEGORIES:Cultura,Esdeveniments,newsletter
LOCATION:Plaça de Cal Figueres\, Plaça de Cal Figueres\, Els Hostalets de
  Pierola\, Spain\, 08781\, Espanya
GEO:41.5322568;1.797712400000023
X-APPLE-STRUCTURED-LOCATION;VALUE=URI;X-ADDRESS=Plaça de Cal Figueres\, El
 s Hostalets de Pierola\, Spain\, 08781\, Espanya;X-APPLE-RADIUS=100;X-TITL
 E=Plaça de Cal Figueres:geo:41.5322568,1.797712400000023
END:VEVENT
END:VCALENDAR