BEGIN:VCALENDAR
VERSION:2.0
PRODID:-//wp-events-plugin.com//7.2.3//EN
TZID:Europe/Madrid
X-WR-TIMEZONE:Europe/Madrid
BEGIN:VEVENT
UID:362@elshostaletsdepierola.cat
DTSTART:20170902T193000Z
DTEND:20170902T233000Z
DTSTAMP:20170825T083537Z
URL:https://elshostaletsdepierola.cat/events/2-setembre-iii-cava-teca/
SUMMARY:2 setembre. III Cava i Teca
DESCRIPTION:'Cava-Teca'\, 3a mostra de caves organitzat per l'Associació T
 eca i Festa dels Hostalets de Pierola.
ATTACH;FMTTYPE=image/jpeg:https://elshostaletsdepierola.cat/wp-content/upl
 oads/2017/08/cava-teca-veremsa-17.jpg
CATEGORIES:Cultura,Esdeveniments,newsletter,Turisme
LOCATION:Plaça de Cal Figueres\, Plaça de Cal Figueres\, Els Hostalets de
  Pierola\, Spain\, 08781\, Espanya
GEO:41.5322568;1.797712400000023
X-APPLE-STRUCTURED-LOCATION;VALUE=URI;X-ADDRESS=Plaça de Cal Figueres\, El
 s Hostalets de Pierola\, Spain\, 08781\, Espanya;X-APPLE-RADIUS=100;X-TITL
 E=Plaça de Cal Figueres:geo:41.5322568,1.797712400000023
END:VEVENT
END:VCALENDAR