BEGIN:VCALENDAR
VERSION:2.0
PRODID:-//wp-events-plugin.com//7.2.3//EN
TZID:Europe/Madrid
X-WR-TIMEZONE:Europe/Madrid
BEGIN:VEVENT
UID:455@elshostaletsdepierola.cat
DTSTART:20180120T104500Z
DTEND:20180121T174500Z
DTSTAMP:20180118T084050Z
URL:https://elshostaletsdepierola.cat/events/20-21-gener-futbol-partits-ll
 iga-als-hostalets/
SUMMARY:20-21 gener. Futbol. Partits de Lliga als Hostalets
DESCRIPTION:Les diferents categories del Club Futbol Hostalets juguen els r
 espectius partits dels seus campionats a les instal·lacions del Camp de F
 utbol dels Hostalets de Pierola.
ATTACH;FMTTYPE=image/jpeg:https://elshostaletsdepierola.cat/wp-content/upl
 oads/2018/01/jornada-19-20-gener-18.jpg
CATEGORIES:Esdeveniments,Esport,newsletter
LOCATION:Camp de Futbol Hostalets de Pierola\, carrer del Progrés s/n\, El
 s Hostalets de Pierola\, Barcelona\, 08781\, Catalunya\, Espanya
GEO:41.529233372593005;1.778471589965875
X-APPLE-STRUCTURED-LOCATION;VALUE=URI;X-ADDRESS=carrer del Progrés s/n\, E
 ls Hostalets de Pierola\, Barcelona\, 08781\, Catalunya\, Espanya;X-APPLE-
 RADIUS=100;X-TITLE=Camp de Futbol Hostalets de Pierola:geo:41.529233372593
 005,1.778471589965875
END:VEVENT
END:VCALENDAR